BEGIN:VCALENDAR
VERSION:2.0
PRODID:icalendar-ruby
CALSCALE:GREGORIAN
METHOD:PUBLISH
BEGIN:VEVENT
DTSTAMP:20260420T051956Z
UID:6-422441@cherithchurch.org
DTSTART:20260809T140000Z
DTEND:20260809T153000Z
CLASS:PUBLIC
CREATED:20260420T000404
DESCRIPTION:
LAST-MODIFIED:20260420T000404
LOCATION:
SUMMARY:Worship Service 
URL;VALUE=URI:https://cherithchurch.org/events/worship-service--6/2026-08-0
 9
END:VEVENT
END:VCALENDAR
