BEGIN:VCALENDAR
VERSION:2.0
PRODID:icalendar-ruby
CALSCALE:GREGORIAN
METHOD:PUBLISH
BEGIN:VEVENT
DTSTAMP:20260420T092512Z
UID:6-422749@cherithchurch.org
DTSTART:20260816T140000Z
DTEND:20260816T153000Z
CLASS:PUBLIC
CREATED:20260420T034126
DESCRIPTION:
LAST-MODIFIED:20260420T034126
LOCATION:
SUMMARY:Worship Service 
URL;VALUE=URI:https://cherithchurch.org/events/worship-service--6/2026-08-1
 6
END:VEVENT
END:VCALENDAR
