BEGIN:VCALENDAR
VERSION:2.0
PRODID:icalendar-ruby
CALSCALE:GREGORIAN
METHOD:PUBLISH
BEGIN:VEVENT
DTSTAMP:20260420T142758Z
UID:6-423057@cherithchurch.org
DTSTART:20260823T140000Z
DTEND:20260823T153000Z
CLASS:PUBLIC
CREATED:20260420T081915
DESCRIPTION:
LAST-MODIFIED:20260420T081915
LOCATION:
SUMMARY:Worship Service 
URL;VALUE=URI:https://cherithchurch.org/events/worship-service--6/2026-08-2
 3
END:VEVENT
END:VCALENDAR
