BEGIN:VCALENDAR
VERSION:2.0
PRODID:icalendar-ruby
CALSCALE:GREGORIAN
METHOD:PUBLISH
BEGIN:VEVENT
DTSTAMP:20260420T185705Z
UID:6-423672@cherithchurch.org
DTSTART:20260830T140000Z
DTEND:20260830T153000Z
CLASS:PUBLIC
CREATED:20260420T132752
DESCRIPTION:
LAST-MODIFIED:20260420T132752
LOCATION:
SUMMARY:Worship Service 
URL;VALUE=URI:https://cherithchurch.org/events/worship-service--6/2026-08-3
 0
END:VEVENT
END:VCALENDAR
