BEGIN:VCALENDAR
VERSION:2.0
PRODID:icalendar-ruby
CALSCALE:GREGORIAN
METHOD:PUBLISH
BEGIN:VEVENT
DTSTAMP:20260420T231216Z
UID:6-424287@cherithchurch.org
DTSTART:20260906T140000Z
DTEND:20260906T153000Z
CLASS:PUBLIC
CREATED:20260420T183841
DESCRIPTION:
LAST-MODIFIED:20260420T183841
LOCATION:
SUMMARY:Worship Service 
URL;VALUE=URI:https://cherithchurch.org/events/worship-service--6/2026-09-0
 6
END:VEVENT
END:VCALENDAR
