BEGIN:VCALENDAR
VERSION:2.0
PRODID:icalendar-ruby
CALSCALE:GREGORIAN
METHOD:PUBLISH
BEGIN:VEVENT
DTSTAMP:20260421T034939Z
UID:6-424595@cherithchurch.org
DTSTART:20260913T140000Z
DTEND:20260913T153000Z
CLASS:PUBLIC
CREATED:20260420T211307
DESCRIPTION:
LAST-MODIFIED:20260420T211307
LOCATION:
SUMMARY:Worship Service 
URL;VALUE=URI:https://cherithchurch.org/events/worship-service--6/2026-09-1
 3
END:VEVENT
END:VCALENDAR
