BEGIN:VCALENDAR
VERSION:2.0
PRODID:icalendar-ruby
CALSCALE:GREGORIAN
METHOD:PUBLISH
BEGIN:VEVENT
DTSTAMP:20260421T075349Z
UID:6-424596@cherithchurch.org
DTSTART:20260920T140000Z
DTEND:20260920T153000Z
CLASS:PUBLIC
CREATED:20260420T211307
DESCRIPTION:
LAST-MODIFIED:20260420T211307
LOCATION:
SUMMARY:Worship Service 
URL;VALUE=URI:https://cherithchurch.org/events/worship-service--6/2026-09-2
 0
END:VEVENT
END:VCALENDAR
