BEGIN:VCALENDAR
VERSION:2.0
PRODID:icalendar-ruby
CALSCALE:GREGORIAN
METHOD:PUBLISH
BEGIN:VEVENT
DTSTAMP:20260421T171209Z
UID:6-425212@cherithchurch.org
DTSTART:20261004T140000Z
DTEND:20261004T153000Z
CLASS:PUBLIC
CREATED:20260421T105545
DESCRIPTION:
LAST-MODIFIED:20260421T105545
LOCATION:
SUMMARY:Worship Service 
URL;VALUE=URI:https://cherithchurch.org/events/worship-service--6/2026-10-0
 4
END:VEVENT
END:VCALENDAR
