BEGIN:VCALENDAR
VERSION:2.0
PRODID:icalendar-ruby
CALSCALE:GREGORIAN
METHOD:PUBLISH
BEGIN:VEVENT
DTSTAMP:20260421T212654Z
UID:6-425827@cherithchurch.org
DTSTART:20261011T140000Z
DTEND:20261011T153000Z
CLASS:PUBLIC
CREATED:20260421T161150
DESCRIPTION:
LAST-MODIFIED:20260421T161150
LOCATION:
SUMMARY:Worship Service 
URL;VALUE=URI:https://cherithchurch.org/events/worship-service--6/2026-10-1
 1
END:VEVENT
END:VCALENDAR
