BEGIN:VCALENDAR
VERSION:2.0
PRODID:icalendar-ruby
CALSCALE:GREGORIAN
METHOD:PUBLISH
BEGIN:VEVENT
DTSTAMP:20260422T013052Z
UID:6-426442@cherithchurch.org
DTSTART:20261018T140000Z
DTEND:20261018T153000Z
CLASS:PUBLIC
CREATED:20260421T212848
DESCRIPTION:
LAST-MODIFIED:20260421T212848
LOCATION:
SUMMARY:Worship Service 
URL;VALUE=URI:https://cherithchurch.org/events/worship-service--6/2026-10-1
 8
END:VEVENT
END:VCALENDAR
