BEGIN:VCALENDAR
VERSION:2.0
PRODID:icalendar-ruby
CALSCALE:GREGORIAN
METHOD:PUBLISH
BEGIN:VEVENT
DTSTAMP:20260422T114704Z
UID:6-426444@cherithchurch.org
DTSTART:20261101T150000Z
DTEND:20261101T163000Z
CLASS:PUBLIC
CREATED:20260421T212848
DESCRIPTION:
LAST-MODIFIED:20260421T212848
LOCATION:
SUMMARY:Worship Service 
URL;VALUE=URI:https://cherithchurch.org/events/worship-service--6/2026-11-0
 1
END:VEVENT
END:VCALENDAR
